BEGIN:VCALENDAR
VERSION:2.0
PRODID:icalendar-ruby
CALSCALE:GREGORIAN
METHOD:PUBLISH
BEGIN:VEVENT
DTSTAMP:20260421T221905Z
UID:181-652916@ourredeemerlutheran.church
DTSTART:20260426T144500Z
DTEND:20260426T160000Z
CLASS:PUBLIC
CREATED:20260421T144625
DESCRIPTION:Join us for this inspiring presentation and explore how Martin 
 Luther and the Reformation transformed the course of history.
LAST-MODIFIED:20260421T144625
LOCATION:2025 Washington Avenue\, Seaford NY - Parish Hall
SUMMARY:Martin Luther - The Idea that Changed the World -
URL;VALUE=URI:https://www.ourredeemerlutheran.church/events/martin-luther-t
 he-idea-that-changed-the-world/2026-04-26
ATTACH;FILENAME=martin-luther.jpg;FMTTYPE=image/jpeg:https://dq5pwpg1q8ru0.
 cloudfront.net/2026/04/21/18/46/24/64d77dc6-69d4-4448-9bff-5af1c9e955ef/ma
 rtin-luther.jpg
END:VEVENT
END:VCALENDAR
