BEGIN:VCALENDAR
VERSION:2.0
PRODID:icalendar-ruby
CALSCALE:GREGORIAN
METHOD:PUBLISH
BEGIN:VEVENT
DTSTAMP:20260423T224931Z
UID:7-659055@ourredeemerlutheran.church
DTSTART:20260823T133000Z
DTEND:20260823T143000Z
CLASS:PUBLIC
CREATED:20260423T162127
DESCRIPTION:Weekly Service of Holy Communion.  
LAST-MODIFIED:20260423T162127
LOCATION:ORLC
SUMMARY:Worship
URL;VALUE=URI:https://www.ourredeemerlutheran.church/events/worship--7/2026
 -08-23
ATTACH;FILENAME=20240331_101740.jpg;FMTTYPE=image/jpeg:https://dq5pwpg1q8ru
 0.cloudfront.net/2025/10/02/16/21/40/961d6f71-3efc-4826-895f-67949a22ea42/
 20240331_101740.jpg
ATTACH;FILENAME=20240331_102445.jpg;FMTTYPE=image/jpeg:https://dq5pwpg1q8ru
 0.cloudfront.net/2025/10/02/16/31/34/3a7fc4ec-1b73-4acd-a450-78eeb58df64f/
 20240331_102445.jpg
END:VEVENT
END:VCALENDAR
